Workbook
Name \a: #REF!
Name \b: #REF!
Name \c: #REF!
Name \d: #REF!
Name \e: #REF!
Name \f: #REF!
Name \g: #REF!
Name \i: #REF!
Name \m: #REF!
Name \o: #REF!
Name \p: #REF!
Name \s: #REF!
Name \t: #REF!
Name \v: #REF!
Name \W: #REF!
Name \z: #REF!
Name ______pp2: Scheduled_Payment+Extra_Payment
Name ______pp2: Scheduled_Payment+Extra_Payment
Name _____sss2: #N/A
Name ____HCE050: #REF!
Name ____HCE075: #REF!
Name ____HCE100: #REF!
Name ____HCE125: #REF!
Name ____HCE150: #REF!
Name ____HCE200: #REF!
Name ____HCE250: #REF!
Name ____HCE300: #REF!
Name ____HCE400: #REF!
Name ____HLB050: #REF!
Name ____HLB075: #REF!
Name ____HLB100: #REF!
Name ____HLB125: #REF!
Name ____HLB150: #REF!
Name ____HLB200: #REF!
Name ____HLB250: #REF!
Name ____HLB300: #REF!
Name ____HLB400: #REF!
Name ____HLI100: #REF!
Name ____HLL050: #REF!
Name ____HLL075: #REF!
Name ____HLL100: #REF!
Name ____HLL125: #REF!
Name ____HLL150: #REF!
Name ____HLL200: #REF!
Name ____HLL250: #REF!
Name ____HLL300: #REF!
Name ____HLL400: #REF!
Name ____HLM175: #REF!
Name ____HLR050: #REF!
Name ____HLR075: #REF!
Name ____HLR100: #REF!
Name ____HLR125: #REF!
Name ____HLR150: #REF!
Name ____HLR200: #REF!
Name ____HLR250: #REF!
Name ____HLR300: #REF!
Name ____HLR400: #REF!
Name ____HTW10: #REF!
Name ____HTW12: #REF!
Name ____HTW14: #REF!

Sheet Presupuesto
B1: PLAN DE OFERTA DE CONSTRUCCION DE MUROS DE RETENCIÓN DE EDIFICIO MULTIFUNCIONAL 2
B3: PRESUPUESTO DE CONSTRUCCION DE MUROS DE RETENCIÓN
B4: ITEM | C4: DESCRIPCIÓN | D4: CANTIDAD | E4: UNIDAD | F4: PRECIO UNITARIO | G4: SUB TOTAL | H4: PARCIAL SUB PARTIDA | I4: TOTAL
B5: 1 | C5: DESMONTAJES | H5: =SUM(G6:G6) -> 0 | I5: =+H5 -> 0
B6: =+B5+0.01 -> 1.01 | C6: Desmontaje de muro prefabricado. | D6: 157.92 | E6: m2
B7: 2 | C7: TERRACERIA
B8: =B7+0.01 -> 2.01 | C8: Descapote con máquina. Incluye chapeo, limpieza de capa de 0.20 m. | D8: 350.57 | E8: m3
B9: =+B8+0.01 -> 2.02 | C9: Corte masivo para conformar terrazas. | D9: 1622.38 | E9: m3
B10: =+B9+0.01 -> 2.03 | C10: Desalojo de material producto de las excavaciones | D10: 2109.09 | E10: m3
B11: =+B10+0.01 -> 2.04 | C11: Relleno compactado con material selecto, compactación al 90% del proctor modificado. | D11: 1072.14 | E11: m3
B12: 3 | C12: MUROS
B13: 3.01 | C13: TERRACERIA DE FUNDACIONES
B14: 3.01.01 | C14: Excavación para fundaciones Incluye desalojo | D14: 870.14 | E14: m3
B15: 3.01.02 | C15: Suelo cemento compactado 20:1 para fundaciones. | D15: 78.59 | E15: m3
B16: 3.01.03 | C16: Desalojo de material producto de las excavaciones | D16: 1131.18 | E16: m3
B17: =B13+0.01 -> 3.02 | C17: CONCRETO FUNDACIONES
B18: 3.02.01 | C18: Zapata corrida MBR-1 de 0.90x0.30 Ref long #3 @0.25 y transversal #4 @0.20 Un lecho. | D18: 3.69 | E18: m3
B19: 3.02.02 | C19: Zapata corrida MBR-2 de 1.30x0.30 Ref long #3 @0.25 y transversal #4 @0.15 Un lecho. | D19: 5.77 | E19: m3
B20: 3.02.03 | C20: Zapata corrida MBC-2 de 1.50x0.30 Ref long #3 @0.25 y transversal #4 @0.15 Un lecho. | D20: 2.34 | E20: m3 | W20: m3
B21: 3.02.04 | C21: Zapata corrida MBR-3 de 1.80x0.35 Ref long #3 @0.25 y transversal #4 @0.15 Un lecho. + Diente de anclaje de 0.30x0.30 Ref 2 #4 y grapa en U #3 @0.15 | D21: 3.78 | E21: m3
B22: 3.02.05 | C22: Zapata corrida MBR-4 de 2.30x0.35 Re long #3 @0.20 y transversal #5 @0.20 Lecho inferior y Ref long #3 @0.25 y transversal #4 @0.20 + Diente de anclaje de 0.30x0.30 Ref 2 #4 y grapa en U #3 @0.15 | D22: 25.36 | E22: m3
B23: 3.02.06 | C23: Zapata corrida MBR-5 de 1.80x0.40 Re long #4 @0.20 y transversal #5 @0.20 Lecho inferior y Ref long #3 @0.25 y transversal #4 @0.20 + Diente de anclaje de 0.30x0.40 Ref 2 #4 y grapa en U #3 @0.15 | D23: 4.32 | E23: m3
B24: 3.02.07 | C24: Zapata corrida MBR-6 de 2.00x0.40 Re long #4 @0.20 y transversal #5 @0.20 Lecho inferior y Ref long #3 @0.25 y transversal #4 @0.20 + Diente de anclaje de 0.30x0.40 Ref 2 #4 y grapa en U #3 @0.15 | D24: 6.38 | E24: m3
B25: 3.02.08 | C25: Zapata corrida MBR-7 de 2.20x0.45 Re long #4 @0.25 y transversal #5 @0.20 Lecho inferior y Ref long #4 @0.25 y transversal #5 @0.20 + Diente de anclaje de 0.30x0.40 Ref 2 #4 y grapa en U #3 @0.15 | D25: 11.88 | E25: m3
B26: 3.02.09 | C26: Zapata corrida MBR-8 de 2.40x0.50 Re long #4 @0.25 y transversal #5 @0.20 Lecho inferior y Ref long #4 @0.25 y transversal #6 @0.20 + Diente de anclaje de 0.30x0.40 Ref 2 #4 y grapa en U #3 @0.15 | D26: 7.2 | E26: m3
B27: 3.02.10 | C27: Zapata corrida MBR-9 de 2.60x0.50 Re long #4 @0.25 y transversal #5 @0.20 Lecho inferior y Ref long #4 @0.25 y transversal #6 @0.20 + Diente de anclaje de 0.30x0.40 Ref 2 #4 y grapa en U #3 @0.15 | D27: 5.2 | E27: m3
B28: 3.02.11 | C28: Pilote PI-1 diámetro 30cms Refuerzo 6 #5 + espiral #3 paso @15cms | D28: 102 | E28: m
B29: 3.03 | C29: PAREDES DE BLOQUE
B30: 3.03.01 | C30: Pared de bloque de concreto 20x20x40 cm. Refuerzo vertical #4@0.40 m. + refuerzo horizontal 2#2@0.40 m. Solera intermedia de bloque con refuerzo 2#3 empaquetados | D30: 162.87 | E30: m2
B31: 3.03.02 | C31: Pared de bloque de concreto 20x20x40 cm. Refuerzo vertical #4@0.20 m. + refuerzo horizontal 2#2@0.40 m. Solera intermedia de bloque con refuerzo 2#3 empaquetados | D31: 188.27 | E31: m2
B32: 3.03.03 | C32: Junta vertical paredes JVP, e=1/2", con relleno flexible de durapax o similar. | D32: 46.8 | E32: m
B33: 3.03.04 | C33: Solera de corona SCM-1. Dimensiones 0.20x0.30 m. Refuerzo 4#5 + estribo #3@0.15 m. | D33: 107.13 | E33: m
B34: 3.03.05 | C34: Contrafuerte CF-1, doble bloque de 20x20x40 Ref 4#5 Est #3 @ 0.15 | D34: 36.2 | E34: m
B35: 3.03.06 | C35: Contrafuerte CF-2, doble bloque de 20x20x40 Ref 4#6 Est #3 @ 0.20 alineado con refuerzo horizontal de pantalla | D35: 32.2 | E35: m
B36: 3.03.07 | C36: Contrafuerte CF-3, cuatro bloques de 20x20x40 Ref 8#7 desde zapata a media altura y 4#7 desde media altura hasta solera SCM-1 Est #3 @ 0.20 alineado con refuerzo horizontal de pantalla | D36: 66.4 | E36: m
B37: 3.03.07 | C37: Reinstalación de tapial de colindancia desmontada | D37: 157.92 | E37: m2
B38: 4 | C38: SISTEMA DE DRENAJE FRANCES
B39: 4.01 | C39: Membrana | D39: 351.14 | E39: m2
B40: 4.02 | C40: Tubo perforado PVC de 8" | D40: 107.13 | E40: m
B41: 4.03 | C41: Filtro de grava y arena | D41: 175.57 | E41: m3
...

Sheet Terraceria Masiva
A1: 1
B2: MEMORIA DE CALCULO
B3: PROYECTO: | C3: COMPLEJO PARA GESTION DOCUMENTAL CSJ TECOLUCA
B4: ACTIVIDAD: | C4: TERRACERIA MASIVA
B5: SUBPARTIDA:
B6: ITEM
B8: CORTE CON MAQUINARIA
B11: ESQUEMA LEVANTAMIENTO TOPOGRÁFICO
B49: PERFIL TOPOGRÁFICO 1
B71: PERFIL TOPOGRÁFICO 2
B93: PERFIL DE TERRACERÍA 1
S108: =275-275.35 -> -0.35
B116: PERFIL DE TERRACERÍA 2
B141: UBICACIÓN | C141: ÁREA | E141: CORTE DE TERRENO
B142: ACERA | C142: =2.8*97.7 -> 273.56 | E142: UBICACIÓN | F142: ÁREA | G142: H1 | H142: H2 | I142: H3 | J142: H PROM | K142: VOLUMEN
B143: BODEGA 1 | C143: 4343.82 | E143: ACERA | F143: =C142 -> 273.56 | G143: 0.7 | H143: 0.35 | I143: 0 | J143: =SUM(G143:I143)/3 -> 0.35 | K143: =F143*J143 -> 95.746
B144: BODEGA 2 | C144: =C143 -> 4343.82 | E144: BODEGA 4 | F144: =C146 -> 2765.4 | G144: =275-274.759 -> 0.241 | H144: =275-274.7 -> 0.3 | I144: =275-274.713 -> 0.287 | J144: =SUM(G144:I144)/3 -> 0.276 | K144: =F144*J144 -> 763.2504
B145: BODEGA 3 | C145: =C144 -> 4343.82 | J145: TOTAL | K145: =SUM(K143:K144) -> 858.9964
B146: BODEGA 4 | C146: 2765.4
C147: =SUM(C142:C146) -> 16070.42
E150: DESCAPOTE DE TERRENO
E151: UBICACIÓN | F151: ÁREA (M2) | G151: H (M) | H151: VOLUMEN (M3)
E152: BODEGA 4 | F152: =2765.4 -> 2765.4 | G152: 0.2 | H152: =F152*G152 -> 553.08
E153: BODEGA 1, 2 Y 3 | F153: 13305.03 | G153: 0.2 | H153: =F153*G153 -> 2661.006
G154: TOTAL | H154: =SUM(H152:H153) -> 3214.086
G155: DESC. - CORTE | H155: =ROUND(H154-K145,1) -> 2355.1
E160: RELLENO COMPACTADO
E161: UBICACIÓN | F161: ÁREA | G161: H1 | H161: H2 | I161: H3 | J161: H4 | K161: H PROM | L161: VOLUMEN
E162: BODEGA 1 | F162: =C143 -> 4343.82 | G162: =275-274.91 -> 0.09 | H162: =275-274.439 -> 0.561 | I162: =275-274.11 -> 0.89 | J162: 0 | K162: =SUM(G162:I162)/3 -> 0.51366667 | L162: =F162*K162 -> 2231.2755
E163: BODEGA 2 | F163: =C144 -> 4343.82 | G163: =275-273.714 -> 1.286 | H163: =275-273.309 -> 1.691 | I163: =275-272.809 -> 2.191 | J163: =275-272.299 -> 2.701 | K163: =SUM(G163:J163)/4 -> 1.96725 | L163: =F163*K163 -> 8545.3799
E164: BODEGA 3 | F164: =C145 -> 4343.82 | G164: =275-272.025 -> 2.975 | H164: =275-271.734 -> 3.266 | I164: =275-271.458 -> 3.542 | J164: =275-271.33 -> 3.67 | K164: =SUM(G164:J164)/4 -> 3.36325 | L164: =F164*K164 -> 14609.353
K165: TOTAL | L165: =ROUND(SUM(L162:L164),1) -> 25386
E169: CODIGO | F169: ESPECIE | G169: DIAMETRO | H169: ALTURA | I169: CANTIDAD
E170: 01-AT | F170: ALMEDRA | G170: 0.6 | H170: 7 | I170: 1
E171: 02-AT | F171: JILOTE | G171: 0.4 | H171: 8 | I171: 1
E172: 03-AT | F172: CONACASTE | G172: 0.2 | H172: 3.5 | I172: 1
E173: 04-AT | F173: CHILAMATE | G173: 3 | H173: 6 | I173: 1
E174: 05-AT | F174: CONACASTE | G174: 0.2 | H174: 3 | I174: 1
E175: 06-AT | F175: CHILAMATE | G175: 0.5 | H175: 6 | I175: 1
E176: 07-AT | F176: CHILAMATE | G176: 0.5 | H176: 6 | I176: 1
...

Sheet Terracería fundaciones
B2: Item | C2: Elemento | D2: Cant. | E2: a | F2: b | G2: h/L | H2: Subtotal | I2: Unidad | J2: Fórmula | K2: Ubicación
B3: 13 | C3: MUROS
B4: 13.01 | C4: Excavación para fundaciones | D4: 1 | E4: 1.9 | F4: 0.9 | G4: 5.2 | H4: =D4*E4*F4*G4 -> 8.892 | I4: m3 | J4: a x b x L | K4: MBR-1 eje A
B5: 13.01 | C5: Excavación para fundaciones | D5: 1 | E5: 1.9 | F5: 0.9 | G5: 8.46 | H5: =D5*E5*F5*G5 -> 14.4666 | I5: m3 | J5: a x b x L | K5: MBR-1 eje B
B6: 13.01 | C6: Excavación para fundaciones | D6: 1 | E6: 2.4 | F6: 1.3 | G6: 6 | H6: =D6*E6*F6*G6 -> 18.72 | I6: m3 | J6: a x b x L | K6: MBR-2 eje A
B7: 13.01 | C7: Excavación para fundaciones | D7: 1 | E7: 2.4 | F7: 1.3 | G7: 8.8 | H7: =D7*E7*F7*G7 -> 27.456 | I7: m3 | J7: a x b x L | K7: MBR-2 eje 3
B8: 13.01 | C8: Excavación para fundaciones | D8: 1 | E8: 2.4 | F8: 1.5 | G8: 5.2 | H8: =D8*E8*F8*G8 -> 18.72 | I8: m3 | J8: a x b x L | K8: MBC-2 eje A
B9: 13.01 | C9: Excavación para fundaciones | D9: 1 | E9: 3.1 | F9: 1.8 | G9: 6 | H9: =D9*E9*F9*G9 -> 33.48 | I9: m3 | J9: a x b x L | K9: MBR-3 eje A
B10: 13.01 | C10: Excavación para fundaciones | D10: 1 | E10: 3.8 | F10: 2.3 | G10: 6.14 | H10: =D10*E10*F10*G10 -> 53.6636 | I10: m3 | J10: a x b x L | K10: MBR-4 eje E
B11: 13.01 | C11: Excavación para fundaciones | D11: 1 | E11: 3.8 | F11: 2.3 | G11: 4 | H11: =D11*E11*F11*G11 -> 34.96 | I11: m3 | J11: a x b x L | K11: MBR-4 eje 12
B12: 13.01 | C12: Excavación para fundaciones | D12: 1 | E12: 3.8 | F12: 2.3 | G12: 6 | H12: =D12*E12*F12*G12 -> 52.44 | I12: m3 | J12: a x b x L | K12: MBR-4 eje 13-1
B13: 13.01 | C13: Excavación para fundaciones | D13: 1 | E13: 3.8 | F13: 2.3 | G13: 6 | H13: =D13*E13*F13*G13 -> 52.44 | I13: m3 | J13: a x b x L | K13: MBR-4 eje 13-2
B14: 13.01 | C14: Excavación para fundaciones | D14: 1 | E14: 3.8 | F14: 2.3 | G14: 9.36 | H14: =D14*E14*F14*G14 -> 81.8064 | I14: m3 | J14: a x b x L | K14: MBR-4 eje 13-3
B15: 13.01 | C15: Excavación para fundaciones | D15: 1 | E15: 4.1 | F15: 1.8 | G15: 6 | H15: =D15*E15*F15*G15 -> 44.28 | I15: m3 | J15: a x b x L | K15: MBR-5 eje A
... B22: 13.01 | C22: Excavación para fundaciones | D22: 1 | E22: 8.1 | F22: 2.6 | G22: 2.35 | H22: =D22*E22*F22*G22 -> 49.491 | I22: m3 | J22: a x b x L | K22: MBR-9 eje A-2
G23: TOTAL | H23: =SUM(H4:H22) -> 870.1386 | I23: M3
B24: 13.02 | C24: Relleno compactado con suelo cemento 20:1 | D24: 1 | E24: 0.3 | F24: 1.5 | G24: 5.2 | H24: =D24*E24*F24*G24 -> 2.34 | I24: m3 | J24: a x b x L | K24: MBR-1 eje A
B25: 13.02 | C25: Relleno compactado con suelo cemento 20:1 | D25: 1 | E25: 0.3 | F25: 1.5 | G25: 8.46 | H25: =D25*E25*F25*G25 -> 3.807 | I25: m3 | J25: a x b x L | K25: MBR-1 eje B
B26: 13.02 | C26: Relleno compactado con suelo cemento 20:1 | D26: 1 | E26: 0.3 | F26: 1.9 | G26: 6 | H26: =D26*E26*F26*G26 -> 3.42 | I26: m3 | J26: a x b x L | K26: MBR-2 eje A
B27: 13.02 | C27: Relleno compactado con suelo cemento 20:1 | D27: 1 | E27: 0.3 | F27: 1.9 | G27: 8.8 | H27: =D27*E27*F27*G27 -> 5.016 | I27: m3 | J27: a x b x L | K27: MBR-2 eje 3
B28: 13.02 | C28: Relleno compactado con suelo cemento 20:1 | D28: 1 | E28: 0.3 | F28: 1.9 | G28: 5.2 | H28: =D28*E28*F28*G28 -> 2.964 | I28: m3 | J28: a x b x L | K28: MBC-2 eje A
B29: 13.02 | C29: Relleno compactado con suelo cemento 20:1 | D29: 1 | E29: 0.3 | F29: 2.1 | G29: 6 | H29: =D29*E29*F29*G29 -> 3.78 | I29: m3 | J29: a x b x L | K29: MBR-3 eje A
B30: 13.02 | C30: Relleno compactado con suelo cemento 20:1 | D30: 1 | E30: 0.3 | F30: 2.9 | G30: 6.14 | H30: =D30*E30*F30*G30 -> 5.3418 | I30: m3 | J30: a x b x L | K30: MBR-4 eje E
B31: 13.02 | C31: Relleno compactado con suelo cemento 20:1 | D31: 1 | E31: 0.3 | F31: 2.9 | G31: 4 | H31: =D31*E31*F31*G31 -> 3.48 | I31: m3 | J31: a x b x L | K31: MBR-4 eje 12
B32: 13.02 | C32: Relleno compactado con suelo cemento 20:1 | D32: 1 | E32: 0.3 | F32: 2.9 | G32: 6 | H32: =D32*E32*F32*G32 -> 5.22 | I32: m3 | J32: a x b x L | K32: MBR-4 eje 13-1
B33: 13.02 | C33: Relleno compactado con suelo cemento 20:1 | D33: 1 | E33: 0.3 | F33: 2.9 | G33: 6 | H33: =D33*E33*F33*G33 -> 5.22 | I33: m3 | J33: a x b x L | K33: MBR-4 eje 13-2
B34: 13.02 | C34: Relleno compactado con suelo cemento 20:1 | D34: 1 | E34: 0.3 | F34: 2.9 | G34: 9.36 | H34: =D34*E34*F34*G34 -> 8.1432 | I34: m3 | J34: a x b x L | K34: MBR-4 eje 13-3
B35: 13.02 | C35: Relleno compactado con suelo cemento 20:1 | D35: 1 | E35: 0.3 | F35: 2.4 | G35: 6 | H35: =D35*E35*F35*G35 -> 4.32 | I35: m3 | J35: a x b x L | K35: MBR-5 eje A
... B42: 13.02 | C42: Relleno compactado con suelo cemento 20:1 | D42: 1 | E42: 0.3 | F42: 3.2 | G42: 2.35 | H42: =D42*E42*F42*G42 -> 2.256 | I42: m3 | J42: a x b x L | K42: MBR-9 eje A-2
G43: TOTAL | H43: =SUM(H24:H42) -> 78.5886 | I43: M3

Sheet Estructura
B3: MEMORIA DE CALCULO
B4: PROYECTO: | C4: =+Presupuesto!#REF! -> #REF!
B5: PRESENTA:
B8: Item | C8: Elemento | D8: Cant. | E8: a | F8: b | G8: h/L | H8: Subtotal | I8: Unidad | J8: Fórmula | K8: Ubicación
B9: =+Presupuesto!B17 -> 3.02 | C9: =+Presupuesto!C17 -> CONCRETO FUNDACIONES
B10: 3.02.01 | C10: Zapata corrida MBR-1 | D10: 1 | E10: 0.3 | F10: 0.9 | G10: =+'Terracería fundaciones'!G4+'Terracería fundaciones'!G5 -> 13.66 | H10: =D10*E10*F10*G10 -> 3.6882 | I10: m3 | J10: cant x a x b x h
B11: 3.02.02 | C11: Zapata corrida MBR-2 | D11: 1 | E11: 0.3 | F11: 1.3 | G11: =+'Terracería fundaciones'!G6+'Terracería fundaciones'!G7 -> 14.8 | H11: =D11*E11*F11*G11 -> 5.772 | I11: m3 | J11: cant x a x b x h
B12: 3.02.03 | C12: Zapata corrida MBC-2 | D12: 1 | E12: 0.3 | F12: 1.5 | G12: =+'Terracería fundaciones'!G8 -> 5.2 | H12: =D12*E12*F12*G12 -> 2.34 | I12: m3 | J12: cant x a x b x h
B13: 3.02.04 | C13: Zapata corrida MBR-3 | D13: 1 | E13: 0.35 | F13: 1.8 | G13: =+'Terracería fundaciones'!G9 -> 6 | H13: =D13*E13*F13*G13 -> 3.78 | I13: m3 | J13: cant x a x b x h
B14: 3.02.05 | C14: Zapata corrida MBR-4 | D14: 1 | E14: 0.35 | F14: 2.3 | G14: =+'Terracería fundaciones'!G10+'Terracería fundaciones'!G11+'Terracería fundaciones'!G12+'Terracería fundaciones'!G13+'Terracería fundaciones'!G14 -> 31.5 | H14: =D14*E14*F14*G14 -> 25.3575 | I14: m3 | J14: cant x a x b x h
B15: 3.02.06 | C15: Zapata corrida MBR-5 | D15: 1 | E15: 0.4 | F15: 1.8 | G15: =+'Terracería fundaciones'!G15 -> 6 | H15: =D15*E15*F15*G15 -> 4.32 | I15: m3 | J15: cant x a x b x h
B16: 3.02.07 | C16: Zapata corrida MBR-6 | D16: 1 | E16: 0.4 | F16: 2 | G16: =+'Terracería fundaciones'!G16+'Terracería fundaciones'!G17 -> 7.97 | H16: =D16*E16*F16*G16 -> 6.376 | I16: m3 | J16: cant x a x b x h
B17: 3.02.08 | C17: Zapata corrida MBR-7 | D17: 1 | E17: 0.45 | F17: 2.2 | G17: =+'Terracería fundaciones'!G18+'Terracería fundaciones'!G19 -> 12 | H17: =D17*E17*F17*G17 -> 11.88 | I17: m3 | J17: cant x a x b x h
B18: 3.02.09 | C18: Zapata corrida MBR-8 | D18: 1 | E18: 0.5 | F18: 2.4 | G18: =+'Terracería fundaciones'!G20 -> 6 | H18: =D18*E18*F18*G18 -> 7.2 | I18: m3 | J18: cant x a x b x h
B19: 3.02.10 | C19: Zapata corrida MBR-9 | D19: 1 | E19: 0.5 | F19: 2.6 | G19: =+'Terracería fundaciones'!G21+'Terracería fundaciones'!G22 -> 4 | H19: =D19*E19*F19*G19 -> 5.2 | I19: m3 | J19: cant x a x b x h
H20: =SUM(H10:H19) -> 75.9137
B22: 3.02.11 | C22: Pilote PI-1 | D22: 0 | E22: 1 | F22: 1 | G22: 0 | H22: =D22*E22*F22*G22 -> 0 | I22: m | J22: cant x a x b x h | K22: MBR-1 eje A
B23: 3.02.11 | C23: Pilote PI-1 | D23: 0 | E23: 1 | F23: 1 | G23: 0 | H23: =D23*E23*F23*G23 -> 0 | I23: m | J23: cant x a x b x h | K23: MBR-1 eje B
B24: 3.02.11 | C24: Pilote PI-1 | D24: 0 | E24: 1 | F24: 1 | G24: 0 | H24: =D24*E24*F24*G24 -> 0 | I24: m | J24: cant x a x b x h | K24: MBR-2 eje A
B25: 3.02.11 | C25: Pilote PI-1 | D25: 0 | E25: 1 | F25: 1 | G25: 0 | H25: =D25*E25*F25*G25 -> 0 | I25: m | J25: cant x a x b x h | K25: MBR-2 eje 3
B26: 3.02.11 | C26: Pilote PI-1 | D26: 0 | E26: 1 | F26: 1 | G26: 0 | H26: =D26*E26*F26*G26 -> 0 | I26: m | J26: cant x a x b x h | K26: MBC-2 eje A
B27: 3.02.11 | C27: Pilote PI-1 | D27: 0 | E27: 1 | F27: 1 | G27: 0 | H27: =D27*E27*F27*G27 -> 0 | I27: m | J27: cant x a x b x h | K27: MBR-3 eje A
B28: 3.02.11 | C28: Pilote PI-1 | D28: 0 | E28: 1 | F28: 1 | G28: 0 | H28: =D28*E28*F28*G28 -> 0 | I28: m | J28: cant x a x b x h | K28: MBR-4 eje E
B29: 3.02.11 | C29: Pilote PI-1 | D29: 0 | E29: 1 | F29: 1 | G29: 0 | H29: =D29*E29*F29*G29 -> 0 | I29: m | J29: cant x a x b x h | K29: MBR-4 eje 12
B30: 3.02.11 | C30: Pilote PI-1 | D30: 0 | E30: 1 | F30: 1 | G30: 0 | H30: =D30*E30*F30*G30 -> 0 | I30: m | J30: cant x a x b x h | K30: MBR-4 eje 13-1
B31: 3.02.11 | C31: Pilote PI-1 | D31: 0 | E31: 1 | F31: 1 | G31: 0 | H31: =D31*E31*F31*G31 -> 0 | I31: m | J31: cant x a x b x h | K31: MBR-4 eje 13-2
B32: 3.02.11 | C32: Pilote PI-1 | D32: 0 | E32: 1 | F32: 1 | G32: 0 | H32: =D32*E32*F32*G32 -> 0 | I32: m | J32: cant x a x b x h | K32: MBR-4 eje 13-3
B33: 3.02.11 | C33: Pilote PI-1 | D33: 6 | E33: 1 | F33: 1 | G33: 3 | H33: =D33*E33*F33*G33 -> 18 | I33: m | J33: cant x a x b x h | K33: MBR-5 eje A
... B40: 3.02.11 | C40: Pilote PI-1 | D40: 2 | E40: 1 | F40: 1 | G40: 3 | H40: =D40*E40*F40*G40 -> 6 | I40: m | J40: cant x a x b x h | K40: MBR-9 eje A-2
H41: =SUM(H22:H40) -> 102

Sheet Mampostería
A3: MEMORIA DE CALCULO
A4: PROYECTO: | B4: =+Presupuesto!#REF! -> #REF!
A5: PRESENTA:
D7: NERVIOS | E7: VENTANAS | F7: PUERTAS | G7: CARGADEROS
A8: Item | B8: Elemento | C8: Ubicación | D8: Hc Vig. (V) [b*h] | E8: Hc vent. (v)[b*h] | F8: Hc Puert (P)[b*h] | G8: Hc carg (C)[b*h] | H8: b | I8: h/L | J8: Subtotal | K8: Unidad | L8: Fórmula
A9: =+Presupuesto!B29 -> 3.03 | B9: =+Presupuesto!C29 -> PAREDES DE BLOQUE
A10: 3.03.01 | B10: MBR-1 eje A | C10: Eje A | H10: 5.2 | I10: 1.4 | J10: =(H10*I10)-D10-E10-F10-G10 -> 7.28 | K10: m2 | L10: (b x L)-V-v-P-C
A11: 3.03.01 | B11: MBR-1 eje B | C11: Eje B | H11: 8.46 | I11: 1.4 | J11: =(H11*I11)-D11-E11-F11-G11 -> 11.844 | K11: m2 | L11: (b x L)-V-v-P-C
A12: 3.03.01 | B12: MBR-2 eje A | C12: Eje A | H12: 6 | I12: 1.9 | J12: =(H12*I12)-D12-E12-F12-G12 -> 11.4 | K12: m2 | L12: (b x L)-V-v-P-C
A13: 3.03.01 | B13: MBR-2 eje 3 | C13: Eje 3 | H13: 8.8 | I13: 1.9 | J13: =(H13*I13)-D13-E13-F13-G13 -> 16.72 | K13: m2 | L13: (b x L)-V-v-P-C
A14: 3.03.01 | B14: MBC-2 eje A | C14: Eje A | H14: 5.2 | I14: 1.9 | J14: =(H14*I14)-D14-E14-F14-G14 -> 9.88 | K14: m2 | L14: (b x L)-V-v-P-C
A15: 3.03.01 | B15: MBR-3 eje A | C15: Eje A | H15: 6 | I15: 2.4 | J15: =(H15*I15)-D15-E15-F15-G15 -> 14.4 | K15: m2 | L15: (b x L)-V-v-P-C
A16: 3.03.01 | B16: MBR-4 eje E | C16: Eje E | H16: 6.14 | I16: 2.9 | J16: =(H16*I16)-D16-E16-F16-G16 -> 17.806 | K16: m2 | L16: (b x L)-V-v-P-C
A17: 3.03.01 | B17: MBR-4 eje 12 | C17: Eje 12 | H17: 4 | I17: 2.9 | J17: =(H17*I17)-D17-E17-F17-G17 -> 11.6 | K17: m2 | L17: (b x L)-V-v-P-C
A18: 3.03.01 | B18: MBR-4 eje 13-1 | C18: Eje 13 | H18: 6 | I18: 2.9 | J18: =(H18*I18)-D18-E18-F18-G18 -> 17.4 | K18: m2 | L18: (b x L)-V-v-P-C
A19: 3.03.01 | B19: MBR-4 eje 13-2 | C19: Eje 13 | H19: 6 | I19: 2.9 | J19: =(H19*I19)-D19-E19-F19-G19 -> 17.4 | K19: m2 | L19: (b x L)-V-v-P-C
A20: 3.03.01 | B20: MBR-4 eje 13-3 | C20: Eje 13 | H20: 9.36 | I20: 2.9 | J20: =(H20*I20)-D20-E20-F20-G20 -> 27.144 | K20: m2 | L20: (b x L)-V-v-P-C
C21: Eje A | H21: TOTAL | J21: =SUM(J10:J20) -> 162.874 | K21: m2
A23: 3.03.02 | B23: MBR-5 eje A | C23: Eje A | H23: 6 | I23: 3.4 | J23: =(H23*I23)-D23-E23-F23-G23 -> 20.4 | K23: m2 | L23: (b x L)-V-v-P-C
A24: 3.03.02 | B24: MBR-6 eje A | C24: Eje A | H24: 6 | I24: 4.4 | J24: =(H24*I24)-D24-E24-F24-G24 -> 26.4 | K24: m2 | L24: (b x L)-V-v-P-C
A25: 3.03.02 | B25: MBR-6 eje 1 | C25: Eje 1 | H25: 1.97 | I25: 4.4 | J25: =(H25*I25)-D25-E25-F25-G25 -> 8.668 | K25: m2 | L25: (b x L)-V-v-P-C
A26: 3.03.02 | B26: MBR-7 eje A | C26: Eje A | H26: 6 | I26: 5.4 | J26: =(H26*I26)-D26-E26-F26-G26 -> 32.4 | K26: m2 | L26: (b x L)-V-v-P-C
A27: 3.03.02 | B27: MBR-7 eje 1 | C27: Eje 1 | H27: 6 | I27: 5.4 | J27: =(H27*I27)-D27-E27-F27-G27 -> 32.4 | K27: m2 | L27: (b x L)-V-v-P-C
A28: 3.03.02 | B28: MBR-8 eje A | C28: Eje A | H28: 6 | I28: 6.4 | J28: =(H28*I28)-D28-E28-F28-G28 -> 38.4 | K28: m2 | L28: (b x L)-V-v-P-C
A29: 3.03.02 | B29: MBR-9 eje A-1 | C29: Eje A | H29: 1.65 | I29: 7.4 | J29: =(H29*I29)-D29-E29-F29-G29 -> 12.21 | K29: m2 | L29: (b x L)-V-v-P-C
A30: 3.03.02 | B30: MBR-9 eje A-2 | C30: Eje A | H30: 2.35 | I30: 7.4 | J30: =(H30*I30)-D30-E30-F30-G30 -> 17.39 | K30: m2 | L30: (b x L)-V-v-P-C
C31: Eje A | H31: TOTAL | J31: =SUM(J23:J30) -> 188.268 | K31: m2
A33: 6.01.03 | B33: SOLERA DE CORONA SC-1
A34: 6.01.03 | B34: Solera de corona SC-1. Dimensiones 0.15x0.20 m. Refuerzo 4#3 + estribo #2@0.15 m. Concreto 280 kg/cm2. Bodega 1 | G34: =60 -> 60 | H34: 0.2 | I34: 0.15 | J34: =G34*H34*I34 -> 1.8 | K34: m3 | L34: Hc x b x l
A35: 6.01.03 | B35: Solera de corona SC-1. Dimensiones 0.15x0.20 m. Refuerzo 4#3 + estribo #2@0.15 m. Concreto 280 kg/cm2. Bodega 1 | G35: =60 -> 60 | H35: 0.2 | I35: 0.15 | J35: =G35*H35*I35 -> 1.8 | K35: m3 | L35: Hc x b x l
A36: 6.01.03 | B36: Solera de corona SC-1. Dimensiones 0.15x0.20 m. Refuerzo 4#3 + estribo #2@0.15 m. Concreto 280 kg/cm2. Bodega 1 | G36: =5.8*6 -> 34.8 | H36: 0.2 | I36: 0.15 | J36: =G36*H36*I36 -> 1.044 | K36: m3 | L36: Hc x b x l
A37: 6.01.03 | B37: Solera de corona SC-1. Dimensiones 0.15x0.20 m. Refuerzo 4#3 + estribo #2@0.15 m. Concreto 280 kg/cm2. Bodega 1 | G37: 34.8 | H37: 0.2 | I37: 0.15 | J37: =G37*H37*I37 -> 1.044 | K37: m3 | L37: Hc x b x l
H38: TOTAL | J38: =SUM(J34:J37) -> 5.688 | K38: m2
C46: b | D46: h/L | E46: a | F46: a-0.50 | G46: V=bxhxa-0.50
B48: MBR-1 eje A | C48: 5.2 | D48: 1.4 | E48: 0.9 | F48: =+E48-0.5 -> 0.4 | G48: =+C48*D48*F48 -> 2.912
B49: MBR-1 eje B | C49: 8.46 | D49: 1.4 | E49: 0.9 | F49: =+E49-0.5 -> 0.4 | G49: =+C49*D49*F49 -> 4.7376
B50: MBR-2 eje A | C50: 6 | D50: 1.9 | E50: 1.3 | F50: =+E50-0.5 -> 0.8 | G50: =+C50*D50*F50 -> 9.12
B51: MBR-2 eje 3 | C51: 8.8 | D51: 1.9 | E51: 1.3 | F51: =+E51-0.5 -> 0.8 | G51: =+C51*D51*F51 -> 13.376
B52: MBC-2 eje A | C52: 5.2 | D52: 1.9 | E52: 1.5 | F52: =+E52-0.5 -> 1 | G52: =+C52*D52*F52 -> 9.88
B53: MBR-3 eje A | C53: 6 | D53: 2.4 | E53: 1.8 | F53: =+E53-0.5 -> 1.3 | G53: =+C53*D53*F53 -> 18.72
...
